BEGIN:VCALENDAR
VERSION:2.0
PRODID:-//PBTechnologies SRL - ECPv6.15.4//NONSGML v1.0//EN
CALSCALE:GREGORIAN
METHOD:PUBLISH
X-WR-CALNAME:PBTechnologies SRL
X-ORIGINAL-URL:https://pbt.com.bo
X-WR-CALDESC:Eventos para PBTechnologies SRL
REFRESH-INTERVAL;VALUE=DURATION:PT1H
X-Robots-Tag:noindex
X-PUBLISHED-TTL:PT1H
BEGIN:VTIMEZONE
TZID:UTC
BEGIN:STANDARD
TZOFFSETFROM:+0000
TZOFFSETTO:+0000
TZNAME:UTC
DTSTART:20230101T000000
END:STANDARD
END:VTIMEZONE
BEGIN:VEVENT
DTSTART;TZID=UTC:20260416T140000
DTEND;TZID=UTC:20260416T150000
DTSTAMP:20260423T200150
CREATED:20260327T204745Z
LAST-MODIFIED:20260407T145451Z
UID:55303-1776348000-1776351600@pbt.com.bo
SUMMARY:Conceptos básicos del registrador de datos: Fundamentos de la investigación ambiental y el monitoreo agrícola.
DESCRIPTION:Te invitan a participar del seminario web:\nConceptos básicos del registrador de datos: Fundamentos de la investigación ambiental y el monitoreo agrícola\nConozca las mejores herramientas para el monitoreo del microclima y los cultivos.\nDesde estudios de microclima hasta la gestión de cultivos\, los registradores de datos y las soluciones de monitorización fiables son cruciales para fundamentar las decisiones en materia de investigación agrícola y medioambiental. \nÚnase a nuestro seminario web gratuito de 45 minutos\, presentado por Anthony Puleo\, experto en registro de datos de HOBO\, y aprenda sobre herramientas de monitoreo (como la galardonada red de sensores inalámbricos HOBOnet) que le permiten resolver problemas complejos\, conservar el agua\, maximizar los rendimientos\, reducir costos\, apoyar la sostenibilidad y comprender mejor los impactos del cambio climático en nuestro medio ambiente. \n¿Eres nuevo en el registro de datos? ¡Empieza por lo básico\, el primer paso para convertirte en un experto en registro de datos! \nEn este seminario web\, aprenderá los fundamentos del uso de registradores de datos y estaciones de monitoreo para medir la humedad del suelo\, las condiciones climáticas\, la temperatura y el nivel del agua\, y mucho más.\n \nLos temas del seminario web incluyen:\n\nQué son los registradores de datos\, qué pueden medir y los beneficios de usarlos.\nFactores importantes a tener en cuenta al seleccionar un registrador de datos\nFormas de acceder a sus datos\nConsejos para la implementación de registradores de datos\nNuevos registradores para medir la luz y la radiación solar.\nEjemplos de aplicación\n\nTanto si estás empezando como si buscas mejorar tus prácticas de monitorización actuales\, esta sesión te proporcionará los conocimientos necesarios sobre las herramientas que necesitas para tomar decisiones más inteligentes y basadas en datos sobre el terreno. \nFecha: Jueves 16 de abril de 2026\nHorario: 14:00 PM – 15:00 PM \nParticipación libre…\n\n\n\n\nREGÍSTRESE\n\n\n\n\n¿No puede asistir en vivo? Regístrese de todos modos para recibir un enlace a la grabación y verlo cuando esté listo. \n\n\n\n\n\n\n \n\n\n\n\n\n\n\n\n\n\n\n\n\n\n\n\n\n470 MacArthur Blvd. Bourne MA 02532\nsales@hobodataloggers.com
URL:https://pbt.com.bo/evento/como-mantener-los-centros-de-datos-dentro-de-los-limites-termicos-hobo/
CATEGORIES:Webinar
ATTACH;FMTTYPE=image/jpeg:https://pbt.com.bo/wp-content/uploads/2026/04/LI-COR_190R-Quantum-Sensor_HOBO-MX2308-scaled.jpg
END:VEVENT
BEGIN:VEVENT
DTSTART;TZID=UTC:20260408T140000
DTEND;TZID=UTC:20260408T150000
DTSTAMP:20260423T200150
CREATED:20260407T145253Z
LAST-MODIFIED:20260407T145253Z
UID:55325-1775656800-1775660400@pbt.com.bo
SUMMARY:Cómo mantener los centros de datos dentro de los límites térmicos. HOBO
DESCRIPTION:Te invitan a participar del seminario web:\nManteniendo los Centros de Datos dentro del Entorno Térmico\nÚnase a nuestro seminario web sobre soluciones de monitoreo inalámbrico para sistemas de enfriamiento en centros de datos. \n¿Podrían sus sistemas de enfriamiento estar desperdiciando energía y aumentando los costos operativos de sus instalaciones? Monitorear la temperatura y la humedad relativa (HR) en los edificios es una de las mejores formas de prevenir costosos tiempos de inactividad\, mantener el cumplimiento normativo y extender la vida útil de sus equipos. \nLos temas incluyen: \n\nComprensión profunda del monitoreo ambiental in situ y remoto en centros de datos\nMejores prácticas para la selección de sensores\, cantidad de sensores\, ubicación de los sensores y más\nCómo el monitoreo respalda el tiempo de actividad\, el cumplimiento\, el rendimiento de los servidores y la longevidad de los equipos\nCómo la Red de Sensores Inalámbricos HOBOnet proporciona alertas en tiempo real cuando las temperaturas aumentan\n\nYa sea que sea contratista\, administrador de instalaciones\, líder de TI o cualquier persona responsable de centros de datos y edificios relacionados\, este seminario web es para usted. \nFecha: Miércoles 8 de abril de 2026\nHorario: 2:00 PM – 3:00 PM \nParticipación libre…\n\n\n\n\nREGÍSTRESE\n\n\n\n\n¿No puede asistir en vivo? Regístrese de todos modos para recibir un enlace a la grabación y verlo cuando esté listo. \n\n\n\n\n\n\n \n\n\n\n\n\n\n\n\n\n\n\n\n\n\n\n\n\n470 MacArthur Blvd. Bourne MA 02532\nsales@hobodataloggers.com
URL:https://pbt.com.bo/evento/como-mantener-los-centros-de-datos-dentro-de-los-limites-termicos-hobo-2/
CATEGORIES:Webinar
ATTACH;FMTTYPE=image/png:https://pbt.com.bo/wp-content/uploads/2026/03/unnamed-1.png
END:VEVENT
BEGIN:VEVENT
DTSTART;TZID=UTC:20260327T110000
DTEND;TZID=UTC:20260327T120000
DTSTAMP:20260423T200150
CREATED:20260318T183349Z
LAST-MODIFIED:20260402T124659Z
UID:55207-1774609200-1774612800@pbt.com.bo
SUMMARY:Desarrollo de una trampa de cuchillas 3D monolítica de sílice fundida para simulación cuántica con especies iónicas pesadas
DESCRIPTION:Webinar en Vivo\nDesarrollo de una trampa de cuchillas 3D monolítica de sílice fundida para simulación cuántica con especies iónicas pesadas\nUna sesión especializada para investigadores e ingenieros interesados en el desarrollo de dispositivos cuánticos y validación térmica avanzada. \n\n\n \n\n\nDescripción\nA medida que las plataformas cuánticas se vuelven más potentes\, la estabilidad térmica bajo altas cargas de RF se convierte en un factor crítico. Antes de avanzar hacia la caracterización basada en iones\, los investigadores deben validar primero el rendimiento térmico macroscópico y la confiabilidad del sistema. \nEn esta sesión\, Abhishek Menon\, candidato a Ph.D. en Rice University\, compartirá el proceso de desarrollo de una trampa 3D de tercera generación y explicará cómo las cámaras térmicas de I+D de FOTRIC apoyan el análisis de distribución de calor\, la calibración y la operación estable de alta potencia en entornos de vacío. \n \n\n\n\n\nFecha: Viernes 27 de marzo de 2026 \nHora: 11:00 a. m. \nDuración: 1 hora \nModalidad: Online en vivo \n\n\n\n\n¿Qué aprenderás?\n\n\n\n      ✔ Cómo un diseño monolítico de trampa de cuchillas 3D logra un confinamiento                         fuerte y una coherencia extendida\n\n\n      ✔ El flujo de desarrollo\, desde el diseño de ingeniería hasta la validación térmica\n\n\n      ✔ Cómo las cámaras térmicas de I+D de FOTRIC mapean la distribución del calor                     bajo operación RF de alta potencia en vacío\n\n\n      ✔ Estrategias prácticas para calibración de emisividad y mejora de la precisión en                      la medición de temperatura\n\n\n\nExpositor\nAbhishek Menon \nFísico experimental y candidato a doctorado en Rice University. Su investigación impulsa plataformas de iones atrapados para simulación cuántica de alta fidelidad\, con trabajo reciente enfocado en el desarrollo de arquitecturas monolíticas de trampas 3D para especies iónicas pesadas. \nYa sea que estés explorando innovación en dispositivos cuánticos o aplicaciones avanzadas de imagen térmica en entornos de I+D\, esta sesión ofrece una visión clara y práctica sobre cómo la validación térmica de precisión respalda los sistemas científicos de próxima generación. \n¿No puedes asistir en vivo? Regístrate de todos modos para recibir el enlace de la grabación bajo demanda. \n \n\n\n\nVer Webinar\n\n\n\n\n\n \n\nSobre FOTRIC\nFOTRIC es un innovador global en tecnologías de imagen infrarroja y acústica\, dedicado al avance de la investigación científica\, el diagnóstico médico y la confiabilidad industrial mediante soluciones inteligentes de imagen.
URL:https://pbt.com.bo/evento/desarrollo-de-trampa-de-cuchillas-3d/
CATEGORIES:Webinar
ATTACH;FMTTYPE=image/jpeg:https://pbt.com.bo/wp-content/uploads/2026/03/unnamed.jpg
END:VEVENT
BEGIN:VEVENT
DTSTART;TZID=UTC:20260325T140000
DTEND;TZID=UTC:20260325T150000
DTSTAMP:20260423T200150
CREATED:20260318T174132Z
LAST-MODIFIED:20260414T175545Z
UID:55197-1774447200-1774450800@pbt.com.bo
SUMMARY:Implementación del sistema de monitorización remota del nivel del agua HOBOnet
DESCRIPTION:Seminario Web Gratuito\nAprende de los expertos\nDescubre cómo diseñar\, instalar y gestionar tu sistema de monitorización remota del nivel del agua HOBOnet\, paso a paso. \n\n\n \n\n\nDescripción\nEl sistema de monitorización remota del nivel del agua HOBOnet es una solución innovadora que permite ahorrar tiempo\, dinero y recursos\, revolucionando la forma de gestionar datos de nivel de agua. \nÚnete a este seminario web gratuito de 45 minutos y conoce el proceso completo de implementación\, desde el diseño hasta la instalación. \nPresentado por Andrew Thomson\, este webinar incluye: \n \n\n\n\n   ✔ HOBOnet como solución inteligente\n\n\n   ✔ Registro en LI-COR Cloud®\n\n\n   ✔ Conexión y resolución de problemas\n\n\n   ✔ Configuración de sensores\n\n\n   ✔ Preparación del sitio\n\n\n   ✔ Instalación paso a paso\n\n\n   ✔ Análisis de datos en la nube\n\n\n\n \n\n\n\n\nFecha: Miércoles 25 de marzo de 2026 \nHorario: 14:00 a 15:00 (Bolivia) \nModalidad: Online \n\n\n\n\n \n\n\n\nACCEDE AL RECURSO →\n\n\n\n\n\n\n \n\nWebinar HOBO | Soluciones avanzadas para la monitorización remota del nivel del agua
URL:https://pbt.com.bo/evento/implementacion-del-sistema-de-monitorizacion-remote-del-nivel-del-agaua-hobonet/
CATEGORIES:Webinar
ATTACH;FMTTYPE=image/png:https://pbt.com.bo/wp-content/uploads/2026/03/unnamed.png
END:VEVENT
BEGIN:VEVENT
DTSTART;TZID=UTC:20250403T150000
DTEND;TZID=UTC:20250403T160000
DTSTAMP:20260423T200150
CREATED:20250326T171531Z
LAST-MODIFIED:20260320T193416Z
UID:28437-1743692400-1743696000@pbt.com.bo
SUMMARY:Mediciones para instalación \, Mantenimiento  y Puesta en Marcha de Sistemas Fotovoltaicos
DESCRIPTION:Seminario web:\nMediciones para Instalación\, mantenimiento y puesta en marcha de Sistemas Fotovoltaicos\nDESCRIPCIÓN \nLa instalación\, mantenimiento y puesta en marcha de sistemas fotovoltaicos requieren mediciones precisas para garantizar su correcto funcionamiento y eficiencia. En este webinar\, aprenderás sobre las mediciones esenciales que aseguran la calidad y seguridad en cada etapa de un sistema solar fotovoltaico. \n¿Qué aprenderás? \n\n\nMediciones eléctricas clave: tensión\, corriente\, potencia y aislamiento.\nEvaluación del rendimiento del sistema y eficiencia del inversor.\nUso de herramientas e instrumentos de medición en campo.\nDiagnóstico de fallas y mantenimiento preventivo.\nPruebas esenciales para la puesta en marcha segura y efectiva.\n\n\nFecha: Jueves 3 de abril de 2025 \nHorario: 15:00 a 16:00 \nModalidad: Online \nInscripción: Gratuita \n¡No pierdas esta oportunidad de mejorar tus habilidades en energía solar! \nREGÍSTRESE AHORA →
URL:https://pbt.com.bo/evento/mediciones-para-instalacion-mantenimiento-y-puesta-en-marcha-de-sistemas-fotovoltaicos/
LOCATION:PBTecnology SRL\, Av. Cristo Redentor / Calle Cosorio\, Santa Cruz de la Sierra\, Santa Cruz\, 00000\, Bolivia
CATEGORIES:Webinar
ATTACH;FMTTYPE=image/jpeg:https://pbt.com.bo/wp-content/uploads/2025/03/width_800.jpeg
ORGANIZER;CN="PBTechnologies SRL":MAILTO:pbt@pbt.com.bo
END:VEVENT
BEGIN:VEVENT
DTSTART;TZID=UTC:20230426T140000
DTEND;TZID=UTC:20230426T150000
DTSTAMP:20260423T200150
CREATED:20230413T221247Z
LAST-MODIFIED:20250208T171302Z
UID:26880-1682517600-1682521200@pbt.com.bo
SUMMARY:Protección contra heladas con la red de sensores inalámbricos HOBOnet
DESCRIPTION:Te invitan a participar del seminario web:\nProtección contra heladas con la red de sensores inalámbricos HOBOnet    \nÚnase a nuestro seminario web sobre el uso del sistema de monitoreo de campo HOBOnet para la protección contra daños por heladas en los cultivos. \nEl seminario web analiza ejemplos de cómo los clientes existentes usan nuestros sensores para monitorear de forma remota las condiciones\, establecer alertas de temperatura e iniciar automáticamente contramedidas contra heladas \nLos temas incluyen: \n\nUna descripción general del sistema de monitoreo de campo HOBOnet\nSelección de sistema y sensor para una protección óptima contra heladas\nEjemplos de aplicaciones de clientes\n\nEste seminario web es ideal para agricultores\, administradores de fincas\, agrónomos e investigadores agrícolas. \nFecha: Miércoles 26 de abril de 2023\nHorario: 14:00 a 15:00 \nParticipación libre…\n\n\n\n\nREGÍSTRESE
URL:https://pbt.com.bo/evento/proteccion-contra-heladas-con-la-red-de-sensores-inalambricos-hobonet/
LOCATION:PBTechnologies SRL\, Av. Banzer y calle Santiago Vaca Guzman\, 370\, Santa Cruz de la Sierra\, Santa Cruz\, 00000\, Bolivia
CATEGORIES:Webinar
ATTACH;FMTTYPE=image/jpeg:https://pbt.com.bo/wp-content/uploads/2023/04/HOBOnet-Wireless-Monitoring-System-AG-2_Moved-down.jpg
END:VEVENT
END:VCALENDAR