BEGIN:VCALENDAR
VERSION:2.0
PRODID:-//PBTechnologies SRL - ECPv6.15.4//NONSGML v1.0//EN
CALSCALE:GREGORIAN
METHOD:PUBLISH
X-WR-CALNAME:PBTechnologies SRL
X-ORIGINAL-URL:https://pbt.com.bo
X-WR-CALDESC:Eventos para PBTechnologies SRL
REFRESH-INTERVAL;VALUE=DURATION:PT1H
X-Robots-Tag:noindex
X-PUBLISHED-TTL:PT1H
BEGIN:VTIMEZONE
TZID:UTC
BEGIN:STANDARD
TZOFFSETFROM:+0000
TZOFFSETTO:+0000
TZNAME:UTC
DTSTART:20260101T000000
END:STANDARD
END:VTIMEZONE
BEGIN:VEVENT
DTSTART;TZID=UTC:20260528T000000
DTEND;TZID=UTC:20260530T000000
DTSTAMP:20260423T125234
CREATED:20260327T150747Z
LAST-MODIFIED:20260327T205725Z
UID:55284-1779926400-1780099200@pbt.com.bo
SUMMARY:Finergy Feria Internacional de Energías 8va Versión 2026
DESCRIPTION:Presencia Empresarial PBTECHNOLOGIES\nFINERGY 2026 ⚡🌍\nPBTechnogies estará presente en la 8va versión del evento más grande en innovación\, desarrollo\, negocios y conocimiento del sector energético. \n\n\n \n\n\nDescripción\nFINERGY 2026 reúne a empresas\, instituciones y especialistas vinculados al futuro del sector energético.\nComo empresa participante\, PBTECHNOLOGIES estará presente en este espacio para mostrar su propuesta\, generar conexiones estratégicas\ny fortalecer su presencia en un entorno de innovación y negocios. \n \n\n\n\n\nFecha: 28\, 29 y 30 de mayo de 2026 \nLugar: Centro de Convenciones FEXPOCRUZ \nModalidad: Evento presencial \nEmpresa participante: PBT \n\n\n\n\nTemáticas principales\n\n\n\n✔ Generación Distribuida\n\n\n✔ Energías Alternativas\n\n\n✔ Smart City\n\n\n✔ Movilidad Eléctrica\n\n\n\nAliados y entidades participantes\nENDE Corporación\, CRE R.L. Cooperativa Rural de Electrificación\, Colegio de Ingenieros Electricistas y Electrónicos de Santa Cruz\,\nSociedad de Ingenieros de Bolivia Departamental Santa Cruz\, Amesol y Colegio de Ingenieros Electricistas y Electrónicos de Bolivia. \nMira un adelanto del evento en el siguiente video: \n\n\n\nhttps://pbt.com.bo/wp-content/uploads/2026/03/finergy-feria-expo.mp4\n\n\n\n  \nSi deseas ser parte de la feria más importante del sector energético\, contáctate al 75550068. \n \n\n\n\nCONTÁCTATE AHORA →\n\n\n\n\n\n\n \n\nPBT\nParticipando en espacios de innovación\, tecnología y desarrollo para fortalecer soluciones empresariales y estratégicas en Bolivia.
URL:https://pbt.com.bo/evento/desarrollo-de-una-trampa-de-cuchillas-3d-monolitica-de-silice-fundida-para-simulacion-cuantica-con-especies-ionicas-pesadas/
CATEGORIES:Webinar
ATTACH;FMTTYPE=image/jpeg:https://pbt.com.bo/wp-content/uploads/2026/03/FeriaPBT-2026.jpg
END:VEVENT
END:VCALENDAR